Workbook

Sheet Dashboard
A1: DASHOBOARD INSPECCIONES
A4: Instalación 1 | E4: Instalación 2 | I4: Instalación 3
A13: Actual | C13: =Datos!B15 -> 7 | E13: Actual | G13: =Datos!C15 -> 7 | I13: Actual | K13: =Datos!D15 -> 7
A14: Meta | C14: =Datos!B17 -> 12 | E14: Meta | G14: =Datos!C17 -> 12 | I14: Meta | K14: =Datos!D17 -> 12

Sheet Datos
A1: Datos de Inspección en Campo
A2: Mes | B2: InstalaciónJunin | C2: Instalación Fernandini | D2: Instalación Brasil | E2: Total de Hallazgos | F2: Hallazgos Cerrados
A3: Ene | B3: 1 | C3: 1 | D3: 1 | E3: 2 | F3: 2 | K3: Site A
A4: Feb | B4: 1 | C4: 1 | D4: 1 | E4: 1 | F4: 1 | K4: Actual | L4: =B15 -> 7
A5: Mar | B5: 1 | C5: 1 | D5: 1 | E5: 1 | F5: 1 | K5: Target | L5: =B17 -> 12
A6: Abr | B6: 1 | C6: 1 | D6: 1 | E6: 1 | F6: 1 | K6: % | L6: =L4/L5 -> 0.58333333
A7: May | B7: 1 | C7: 1 | D7: 1 | E7: 1 | F7: 1 | L7: =1-L6 -> 0.41666667
A8: Jun | B8: 1 | C8: 1 | D8: 1 | E8: 1 | F8: 1 | K8: Site B
A9: Jul | B9: 1 | C9: 1 | D9: 1 | E9: 2 | F9: 0 | K9: Actual | L9: =C15 -> 7
A10: Ago | K10: Target | L10: =C17 -> 12
A11: Sep | K11: % | L11: =L9/L10 -> 0.58333333
A12: Oct | L12: =1-L11 -> 0.41666667
A13: Nov
A14: Dic | K14: Site C
A15: Total | B15: =SUM(B3:B14) -> 7 | C15: =SUM(C3:C14) -> 7 | D15: =SUM(D3:D14) -> 7 | E15: =SUM(E3:E14) -> 9 | F15: =SUM(F3:F14) -> 7 | K15: Actual | L15: =D15 -> 7
K16: Target | L16: =D17 -> 12
A17: Meta Anual | B17: 12 | C17: 12 | D17: 12 | K17: % | L17: =L15/L16 -> 0.58333333
L18: =1-L17 -> 0.41666667
